BEGIN:VCALENDAR
VERSION:2.0
PRODID:-//wp-events-plugin.com//7.2.3.1//EN
TZID:Europe/Amsterdam
X-WR-TIMEZONE:Europe/Amsterdam
BEGIN:VEVENT
UID:467@kboafferdenlimburg.nl
DTSTART;TZID=Europe/Amsterdam:20250314T133000
DTEND;TZID=Europe/Amsterdam:20250314T153000
DTSTAMP:20250224T173409Z
URL:https://kboafferdenlimburg.nl/events/algemene-ledenvergadering-14-maar
 t-2025/
SUMMARY:Algemene ledenvergadering 14 maart 2025
DESCRIPTION:\n\n&nbsp\;\n\nAlgemene ledenvergadering 14 maart 2025.&nbsp\;&
 nbsp\;&nbsp\; &nbsp\; &nbsp\;&nbsp\;&nbsp\;&nbsp\;&nbsp\;&nbsp\;&nbsp\;&nb
 sp\;&nbsp\;&nbsp\;&nbsp\;&nbsp\;&nbsp\;&nbsp\;&nbsp\;&nbsp\;&nbsp\;&nbsp\;
 &nbsp\;&nbsp\;&nbsp\;&nbsp\;&nbsp\;&nbsp\;&nbsp\;&nbsp\;&nbsp\;&nbsp\;&nbs
 p\;&nbsp\;\n\nBij deze willen we jullie uitnodigen voor het bijwonen van d
 e algemene ledenvergadering op vrijdag 14 maart bij de Pruuver.\n\nAanvang
  13.30 uur.\n\n&nbsp\;&nbsp\;&nbsp\;&nbsp\; \n\n&nbsp\;&nbsp\;&nbsp\;&nbsp
 \;&nbsp\;&nbsp\;&nbsp\;&nbsp\;&nbsp\;&nbsp\;&nbsp\;&nbsp\; Agenda:\n\n 	Op
 ening door de voorzitter: &nbsp\;\n 	Notulen vorige vergadering:\n 	Jaarve
 rslag en mededelingen:\n 	Financieel overzicht penningmeester:\n 	Verslag 
 kascontrole Gemma van de Ven en Jan Buddiger:\n 	Verkiezing nieuw lid kasc
 ontrole:\n 	Vaststellen hoogte contributie 2026.\n 	Jaarprogramma 2025: (z
 ie website)\n 	Viering 70 jarig bestaan KBO Afferden 25 oktober 2025.\n\n\
 n 	Aanpassen naam KBO Afferden? \n 	Rondvraag:\n 	Sluiting van de vergader
 ing:\n\nIn de pauze is er koffie/thee met vlaai\, aangeboden door de KBO.\
 n\n&nbsp\;&nbsp\;&nbsp\;&nbsp\;&nbsp\;&nbsp\;&nbsp\;&nbsp\;&nbsp\;&nbsp\;&
 nbsp\;\n\n&nbsp\;&nbsp\;&nbsp\;&nbsp\;&nbsp\;&nbsp\;&nbsp\;&nbsp\;&nbsp\;&
 nbsp\;&nbsp\; Na afloop van de vergadering tot 17.00 uur een gezellig same
 nzijn met\n\n&nbsp\;&nbsp\;&nbsp\;&nbsp\;&nbsp\;&nbsp\;&nbsp\;&nbsp\;&nbsp
 \;&nbsp\;&nbsp\; zang en muziek van Duo Fresh Air met Joos Peeters en Fran
 s Arntz.\n\n&nbsp\;\n\nOm voor iedereen een zitplaats te hebben willen we 
 jullie&nbsp\; vragen om door te geven of je aanwezig bent op deze vergader
 ing\, dit kan via de mail: kboafferdenlimburg@gmail.com of telefonisch bij
  Anneke Heijligers 0648219861 en Pieter van den Hoogen 0627134590 of via o
 nderstaand briefje.\n\n---------------------------------------------------
 ------------------------------------------------------\n\nAanmeldstrook vo
 or de algemene ledenvergadering op 14-03-2025.\n\nIk/wij komen naar de led
 envergadering:\n\nNaam:……………………………………………
 ……….\n\nNaam:………………………………………………
 …….\n\nHeb je vervoer nodig\, geef dit dan even door.\n\n&nbsp\;\n\nNa
 mens het bestuur van de KBO Afferden.
LOCATION:Café de Pruuver\, Langstraat 4\, Afferden\, Nederland\, 5851BE\, 
 Nederland
X-APPLE-STRUCTURED-LOCATION;VALUE=URI;X-ADDRESS=Langstraat 4\, Afferden\, N
 ederland\, 5851BE\, Nederland;X-APPLE-RADIUS=100;X-TITLE=Café de Pruuver:
 geo:0,0
END:VEVENT
BEGIN:VTIMEZONE
TZID:Europe/Amsterdam
X-LIC-LOCATION:Europe/Amsterdam
BEGIN:STANDARD
DTSTART:20241027T020000
TZOFFSETFROM:+0200
TZOFFSETTO:+0100
TZNAME:CET
END:STANDARD
END:VTIMEZONE
END:VCALENDAR