BEGIN:VCALENDAR
VERSION:2.0
PRODID:-//wp-events-plugin.com//7.2.3.1//EN
TZID:Europe/Amsterdam
X-WR-TIMEZONE:Europe/Amsterdam
BEGIN:VEVENT
UID:466@kboafferdenlimburg.nl
DTSTART;TZID=Europe/Amsterdam:20250314T140000
DTEND;TZID=Europe/Amsterdam:20250314T163000
DTSTAMP:20250127T170201Z
URL:https://kboafferdenlimburg.nl/events/jaarvergadering/
SUMMARY:Jaarvergadering
DESCRIPTION:met optreden van Duo Fresh Air.
LOCATION:Café de Pruuver\, Langstraat 4\, Afferden\, Nederland\, 5851BE\, 
 Nederland
X-APPLE-STRUCTURED-LOCATION;VALUE=URI;X-ADDRESS=Langstraat 4\, Afferden\, N
 ederland\, 5851BE\, Nederland;X-APPLE-RADIUS=100;X-TITLE=Café de Pruuver:
 geo:0,0
END:VEVENT
BEGIN:VTIMEZONE
TZID:Europe/Amsterdam
X-LIC-LOCATION:Europe/Amsterdam
BEGIN:STANDARD
DTSTART:20241027T020000
TZOFFSETFROM:+0200
TZOFFSETTO:+0100
TZNAME:CET
END:STANDARD
END:VTIMEZONE
END:VCALENDAR